BEGIN:VCALENDAR
VERSION:2.0
PRODID:-//MANA Quartet - ECPv6.15.20//NONSGML v1.0//EN
CALSCALE:GREGORIAN
METHOD:PUBLISH
X-WR-CALNAME:MANA Quartet
X-ORIGINAL-URL:https://themanaquartet.com
X-WR-CALDESC:Events for MANA Quartet
REFRESH-INTERVAL;VALUE=DURATION:PT1H
X-Robots-Tag:noindex
X-PUBLISHED-TTL:PT1H
BEGIN:VTIMEZONE
TZID:America/Los_Angeles
BEGIN:DAYLIGHT
TZOFFSETFROM:-0800
TZOFFSETTO:-0700
TZNAME:PDT
DTSTART:20190310T100000
END:DAYLIGHT
BEGIN:STANDARD
TZOFFSETFROM:-0700
TZOFFSETTO:-0800
TZNAME:PST
DTSTART:20191103T090000
END:STANDARD
BEGIN:DAYLIGHT
TZOFFSETFROM:-0800
TZOFFSETTO:-0700
TZNAME:PDT
DTSTART:20200308T100000
END:DAYLIGHT
BEGIN:STANDARD
TZOFFSETFROM:-0700
TZOFFSETTO:-0800
TZNAME:PST
DTSTART:20201101T090000
END:STANDARD
BEGIN:DAYLIGHT
TZOFFSETFROM:-0800
TZOFFSETTO:-0700
TZNAME:PDT
DTSTART:20210314T100000
END:DAYLIGHT
BEGIN:STANDARD
TZOFFSETFROM:-0700
TZOFFSETTO:-0800
TZNAME:PST
DTSTART:20211107T090000
END:STANDARD
BEGIN:DAYLIGHT
TZOFFSETFROM:-0800
TZOFFSETTO:-0700
TZNAME:PDT
DTSTART:20220313T100000
END:DAYLIGHT
BEGIN:STANDARD
TZOFFSETFROM:-0700
TZOFFSETTO:-0800
TZNAME:PST
DTSTART:20221106T090000
END:STANDARD
BEGIN:DAYLIGHT
TZOFFSETFROM:-0800
TZOFFSETTO:-0700
TZNAME:PDT
DTSTART:20230312T100000
END:DAYLIGHT
BEGIN:STANDARD
TZOFFSETFROM:-0700
TZOFFSETTO:-0800
TZNAME:PST
DTSTART:20231105T090000
END:STANDARD
BEGIN:DAYLIGHT
TZOFFSETFROM:-0800
TZOFFSETTO:-0700
TZNAME:PDT
DTSTART:20240310T100000
END:DAYLIGHT
BEGIN:STANDARD
TZOFFSETFROM:-0700
TZOFFSETTO:-0800
TZNAME:PST
DTSTART:20241103T090000
END:STANDARD
BEGIN:DAYLIGHT
TZOFFSETFROM:-0800
TZOFFSETTO:-0700
TZNAME:PDT
DTSTART:20250309T100000
END:DAYLIGHT
BEGIN:STANDARD
TZOFFSETFROM:-0700
TZOFFSETTO:-0800
TZNAME:PST
DTSTART:20251102T090000
END:STANDARD
BEGIN:DAYLIGHT
TZOFFSETFROM:-0800
TZOFFSETTO:-0700
TZNAME:PDT
DTSTART:20260308T100000
END:DAYLIGHT
BEGIN:STANDARD
TZOFFSETFROM:-0700
TZOFFSETTO:-0800
TZNAME:PST
DTSTART:20261101T090000
END:STANDARD
END:VTIMEZONE
BEGIN:VTIMEZONE
TZID:America/New_York
BEGIN:DAYLIGHT
TZOFFSETFROM:-0500
TZOFFSETTO:-0400
TZNAME:EDT
DTSTART:20190310T070000
END:DAYLIGHT
BEGIN:STANDARD
TZOFFSETFROM:-0400
TZOFFSETTO:-0500
TZNAME:EST
DTSTART:20191103T060000
END:STANDARD
BEGIN:DAYLIGHT
TZOFFSETFROM:-0500
TZOFFSETTO:-0400
TZNAME:EDT
DTSTART:20200308T070000
END:DAYLIGHT
BEGIN:STANDARD
TZOFFSETFROM:-0400
TZOFFSETTO:-0500
TZNAME:EST
DTSTART:20201101T060000
END:STANDARD
BEGIN:DAYLIGHT
TZOFFSETFROM:-0500
TZOFFSETTO:-0400
TZNAME:EDT
DTSTART:20210314T070000
END:DAYLIGHT
BEGIN:STANDARD
TZOFFSETFROM:-0400
TZOFFSETTO:-0500
TZNAME:EST
DTSTART:20211107T060000
END:STANDARD
BEGIN:DAYLIGHT
TZOFFSETFROM:-0500
TZOFFSETTO:-0400
TZNAME:EDT
DTSTART:20220313T070000
END:DAYLIGHT
BEGIN:STANDARD
TZOFFSETFROM:-0400
TZOFFSETTO:-0500
TZNAME:EST
DTSTART:20221106T060000
END:STANDARD
BEGIN:DAYLIGHT
TZOFFSETFROM:-0500
TZOFFSETTO:-0400
TZNAME:EDT
DTSTART:20230312T070000
END:DAYLIGHT
BEGIN:STANDARD
TZOFFSETFROM:-0400
TZOFFSETTO:-0500
TZNAME:EST
DTSTART:20231105T060000
END:STANDARD
END:VTIMEZONE
BEGIN:VEVENT
DTSTART;VALUE=DATE:20251019
DTEND;VALUE=DATE:20251020
DTSTAMP:20260424T064357
CREATED:20250203T002349Z
LAST-MODIFIED:20250203T002349Z
UID:4478-1760832000-1760918399@themanaquartet.com
SUMMARY:Calliope Arts Recital
DESCRIPTION:Details TBA
URL:https://themanaquartet.com/event/calliope-arts-recital/
LOCATION:CA
CATEGORIES:Concert
ATTACH;FMTTYPE=image/png:https://themanaquartet.com/wp-content/uploads/2025/02/Calliopebanner.png
END:VEVENT
BEGIN:VEVENT
DTSTART;TZID=America/Los_Angeles:20250620T170000
DTEND;TZID=America/Los_Angeles:20250620T190000
DTSTAMP:20260424T064357
CREATED:20250209T051904Z
LAST-MODIFIED:20250209T051904Z
UID:4514-1750438800-1750446000@themanaquartet.com
SUMMARY:MANA Saxophone Institute 2025 Closing Concert
DESCRIPTION:The MSI Saxophone Orchestra performs the final Institute Concert
URL:https://themanaquartet.com/event/mana-saxophone-institute-2025-closing-concert/
LOCATION:San José State University – School of Music and Dance\, 1 Washington Square\, San José\, CA\, 95112\, United States
CATEGORIES:Concert,Outreach,Residency,Workshop
END:VEVENT
BEGIN:VEVENT
DTSTART;TZID=America/Los_Angeles:20250620T150000
DTEND;TZID=America/Los_Angeles:20250620T160000
DTSTAMP:20260424T064357
CREATED:20250209T051746Z
LAST-MODIFIED:20250209T051746Z
UID:4511-1750431600-1750435200@themanaquartet.com
SUMMARY:MSI Outreach Concert #2
DESCRIPTION:Details TBA
URL:https://themanaquartet.com/event/msi-outreach-concert-2/
LOCATION:CA
CATEGORIES:Concert,Outreach,Residency,Workshop
END:VEVENT
BEGIN:VEVENT
DTSTART;TZID=America/Los_Angeles:20250620T120000
DTEND;TZID=America/Los_Angeles:20250620T160000
DTSTAMP:20260424T064357
CREATED:20250209T051656Z
LAST-MODIFIED:20250209T051656Z
UID:4506-1750420800-1750435200@themanaquartet.com
SUMMARY:MSI Outreach Concert #1 - San Pedro Square in San Jose
DESCRIPTION:The MANA Saxophone Institute Performs a lunchtime concert at San Pedro Square – free and open to the public!
URL:https://themanaquartet.com/event/msi-outreach-concert-1-san-pedro-square-in-san-jose/
LOCATION:San Pedro Square\, San Jose\, 87 N San Pedro St\, San Jose\, CA\, 95110\, United States
CATEGORIES:Concert,Outreach,Residency,Workshop
END:VEVENT
BEGIN:VEVENT
DTSTART;TZID=America/Los_Angeles:20250619T183000
DTEND;TZID=America/Los_Angeles:20250619T200000
DTSTAMP:20260424T064357
CREATED:20250209T051424Z
LAST-MODIFIED:20250209T051947Z
UID:4502-1750357800-1750363200@themanaquartet.com
SUMMARY:MANA Saxophone Institute Participants Chamber Recital
DESCRIPTION:An evening of chamber music presented by the participants of MSI 2025
URL:https://themanaquartet.com/event/mana-saxophone-institute-participants-chamber-recital/
LOCATION:San José State University – School of Music and Dance\, 1 Washington Square\, San José\, CA\, 95112\, United States
CATEGORIES:Concert,Residency,Workshop
END:VEVENT
BEGIN:VEVENT
DTSTART;TZID=America/Los_Angeles:20250618T183000
DTEND;TZID=America/Los_Angeles:20250618T200000
DTSTAMP:20260424T064357
CREATED:20250209T051315Z
LAST-MODIFIED:20250209T051342Z
UID:4497-1750271400-1750276800@themanaquartet.com
SUMMARY:MANA Saxophone Institute Participants Solo Recital
DESCRIPTION:An evening recital featuring selected MSI participants!
URL:https://themanaquartet.com/event/mana-saxophone-institute-participants-recital/
LOCATION:San José State University – School of Music and Dance\, 1 Washington Square\, San José\, CA\, 95112\, United States
CATEGORIES:Concert,Residency,Workshop
END:VEVENT
BEGIN:VEVENT
DTSTART;TZID=America/Los_Angeles:20250617T180000
DTEND;TZID=America/Los_Angeles:20250617T193000
DTSTAMP:20260424T064357
CREATED:20250209T051152Z
LAST-MODIFIED:20250209T051152Z
UID:4495-1750183200-1750188600@themanaquartet.com
SUMMARY:MANA Chamber Players Recital
DESCRIPTION:The MANA Chamber players perform a variety of chamber music for saxophone and piano! Including the American premiere of a work by Dimitri Terzakis and works by Singelee\, Poulenc\, Bach\, and more!
URL:https://themanaquartet.com/event/mana-chamber-players-recital/
LOCATION:San José State University – School of Music and Dance\, 1 Washington Square\, San José\, CA\, 95112\, United States
CATEGORIES:Concert,Outreach,Residency,Workshop
END:VEVENT
BEGIN:VEVENT
DTSTART;TZID=America/Los_Angeles:20250616T183000
DTEND;TZID=America/Los_Angeles:20250616T200000
DTSTAMP:20260424T064357
CREATED:20250209T051028Z
LAST-MODIFIED:20250209T051028Z
UID:4493-1750098600-1750104000@themanaquartet.com
SUMMARY:MSI Opening Night Recital - The MANA Quartet - San Jose\, CA
DESCRIPTION:The MANA Quartet performs the Opening Night Recital of the 16th Annual MANA Saxophone Institute with works by Dankner\, Broder and Wuorinen!
URL:https://themanaquartet.com/event/msi-opening-night-recital-the-mana-quartet-san-jose-ca/
LOCATION:San José State University – School of Music and Dance\, 1 Washington Square\, San José\, CA\, 95112\, United States
CATEGORIES:Concert,Outreach,Residency,Workshop
END:VEVENT
BEGIN:VEVENT
DTSTART;VALUE=DATE:20250616
DTEND;VALUE=DATE:20250621
DTSTAMP:20260424T064357
CREATED:20250203T002528Z
LAST-MODIFIED:20250203T002906Z
UID:4482-1750032000-1750463999@themanaquartet.com
SUMMARY:MANA Saxophone Institute | June 16 - 20\, 2025 | San José\, CA
DESCRIPTION:MANA Saxophone Institute is back this June!\nJoin us at San José State univiersity June 16-20\nMORE INFORMATION HERE
URL:https://themanaquartet.com/event/mana-saxophone-institute-june-16-20-2025-san-jose-ca/
LOCATION:San José State University – School of Music and Dance\, 1 Washington Square\, San José\, CA\, 95112\, United States
CATEGORIES:Concert,Outreach,Residency,Workshop
ATTACH;FMTTYPE=image/png:https://themanaquartet.com/wp-content/uploads/2025/01/MSI_2025_Banner_condensed.png
END:VEVENT
BEGIN:VEVENT
DTSTART;TZID=America/Los_Angeles:20250521T120000
DTEND;TZID=America/Los_Angeles:20250521T133000
DTSTAMP:20260424T064357
CREATED:20250104T200025Z
LAST-MODIFIED:20250404T212901Z
UID:4488-1747828800-1747834200@themanaquartet.com
SUMMARY:Santa Clara University: Music at Noon - Santa Clara\, CA
DESCRIPTION:Details TBA
URL:https://themanaquartet.com/event/santa-clara-university-music-at-noon-santa-clara-ca/
LOCATION:Santa Clara University
CATEGORIES:Concert
ATTACH;FMTTYPE=image/png:https://themanaquartet.com/wp-content/uploads/2020/01/MANA-Saxophone-Quartet-Logo.png
END:VEVENT
BEGIN:VEVENT
DTSTART;VALUE=DATE:20240617
DTEND;VALUE=DATE:20240622
DTSTAMP:20260424T064357
CREATED:20240223T053337Z
LAST-MODIFIED:20240518T202232Z
UID:4327-1718582400-1719014399@themanaquartet.com
SUMMARY:MANA Saxophone Institute | June 17 - 21\, 2024 | San José\, CA
DESCRIPTION:MANA Saxophone Institute is back this June!\nJoin us at San José State univiersity June 17-21\nMORE INFORMATION HERE
URL:https://themanaquartet.com/event/mana-saxophone-institute-june-17-21-2024-san-jose-ca/
LOCATION:San José State University – School of Music and Dance\, 1 Washington Square\, San José\, CA\, 95112\, United States
CATEGORIES:Concert,Residency,Workshop
ATTACH;FMTTYPE=image/png:https://themanaquartet.com/wp-content/uploads/2024/02/MSI-LOGO.png
END:VEVENT
BEGIN:VEVENT
DTSTART;VALUE=DATE:20240607
DTEND;VALUE=DATE:20240608
DTSTAMP:20260424T064357
CREATED:20240608T020041Z
LAST-MODIFIED:20250203T001908Z
UID:4464-1717718400-1717804799@themanaquartet.com
SUMMARY:MANA with Santa Cruz Symphony | June 7\, 2024 | Santa Cruz\, CA
DESCRIPTION:MANA Joins the Santa Cruz Symphony for a celebration of music by John Williams.
URL:https://themanaquartet.com/event/mana-santa-cruz-symphony-june-6-2024-santa-cruz-ca/
LOCATION:Santa Cruz Civic Auditorium\, 307 Church Street\, Santa Cruz\, 95060\, United States
CATEGORIES:Concert
ATTACH;FMTTYPE=image/jpeg:https://themanaquartet.com/wp-content/uploads/2024/06/Santa-Cruz-Symphony_John-Williams-Spectacular_2023_640x480.jpg
END:VEVENT
BEGIN:VEVENT
DTSTART;TZID=America/Los_Angeles:20231121T160000
DTEND;TZID=America/Los_Angeles:20231121T180000
DTSTAMP:20260424T064357
CREATED:20230920T204957Z
LAST-MODIFIED:20230920T204957Z
UID:4290-1700582400-1700589600@themanaquartet.com
SUMMARY:Music at Four - Portola Valley\, CA
DESCRIPTION:A concert of chamber music\, featuring works celebrating California’s landmarks and culture.
URL:https://themanaquartet.com/event/music-at-four-portola-valley-ca/
LOCATION:The Sequoias\, Portola Valley\, CA\, United States
CATEGORIES:Concert
END:VEVENT
BEGIN:VEVENT
DTSTART;TZID=America/Los_Angeles:20231117T193000
DTEND;TZID=America/Los_Angeles:20231117T210000
DTSTAMP:20260424T064357
CREATED:20230920T203407Z
LAST-MODIFIED:20230920T203407Z
UID:4284-1700249400-1700254800@themanaquartet.com
SUMMARY:MANA + ECHO Chamber Orchestra - San Anselmo\, California
DESCRIPTION:MANA joins ECHO Chamber Orchestra yet again to perform Philip Glass’ Concerto for Saxophone Quartet. \n \n\n\n \n\n\nECHO Chamber Orchestra takes part in CALIFORNIA FESTIVAL: A Celebration of New Music organized throughout the state by the Los Angeles Philharmonic\, San Francisco Symphony\, and San Diego Symphony to perform the most innovative and compelling music from around the world composed in the last five years. \nECHO will perform music by Californian composers Belinda Reynolds and Kevin Gordon\, Mexican composer Horacio Fernandez and Brazilian composer Lea Freire. In collaboration with the MANA Saxophone Quartet\, ECHO will perform the exciting Concerto for Saxophone Quartet by Philip Glass.
URL:https://themanaquartet.com/event/mana-echo-chamber-orchestra-san-anselmo-california/
LOCATION:First Presbyterian Church\, 72 Kensington Road\, San Anselmo\, CA\, 94960\, United States
CATEGORIES:Concert,Outreach
ATTACH;FMTTYPE=image/webp:https://themanaquartet.com/wp-content/uploads/2023/09/ca-festival-black-tagline-726x271-1.webp
END:VEVENT
BEGIN:VEVENT
DTSTART;TZID=America/Los_Angeles:20230820T100000
DTEND;TZID=America/Los_Angeles:20230820T111500
DTSTAMP:20260424T064357
CREATED:20230817T145654Z
LAST-MODIFIED:20230817T150202Z
UID:4270-1692525600-1692530100@themanaquartet.com
SUMMARY:Arts Around August - Walnut Creek\, California
DESCRIPTION:MANA joins Arts Around August as a trio to share chamber music with the community on Rudney Plaza at the Lesher Center\, in Walnut Creek! \n \n\n\n \nArts Around August\, in its 3rd year\, is a month-long celebration of the performing\, visual and culinary arts in downtown Walnut Creek. Events and activities are planned throughout the month of August\, including experiences for both families and adults like Summer Concerts at Broadway Plaza\, First Wednesday Street Fest\, Downtown Stages\, Moveable Feasts\, Family Day at the Lesher Center\, Pop-up Opera performances and many more activities!
URL:https://themanaquartet.com/event/arts-around-august-walnut-creek-california/
LOCATION:Lesher Center for the Arts\, 1601 Civic Drive\, Walnut Creek\, 94596
CATEGORIES:Concert,Outreach
ATTACH;FMTTYPE=image/png:https://themanaquartet.com/wp-content/uploads/2023/08/arts-around-august-walnut-creek.png
END:VEVENT
BEGIN:VEVENT
DTSTART;TZID=America/Los_Angeles:20221025T120000
DTEND;TZID=America/Los_Angeles:20221025T130000
DTSTAMP:20260424T064357
CREATED:20221014T154113Z
LAST-MODIFIED:20221014T154113Z
UID:4233-1666699200-1666702800@themanaquartet.com
SUMMARY:Noontime Concerts - San Francisco\, California
DESCRIPTION:MANA returns to Noontime Concerts (San Francisco)! \n \n\n\n \nMaritzika* (2021) – Marc Mellits  (1966) \nPremier Quatuor (1857) – Jean Baptiste Singelée (1821-1875) \nPortrait of My Dead Brother* (2014) – Kevin Villalta (1989) \nDiversions in Denim (1977) – Carl Anton Wirth (1921-1986) \n \n\n\n \nLink to Noontime Concerts
URL:https://themanaquartet.com/event/noontime-concerts-san-francisco/
LOCATION:Old St Mary’s Cathedral\, 660 California St\, San Francisco\, CA\, 94108\, United States
CATEGORIES:Concert
ATTACH;FMTTYPE=image/png:https://themanaquartet.com/wp-content/uploads/2022/10/noontime-concerts-san-francisco.png
END:VEVENT
BEGIN:VEVENT
DTSTART;TZID=America/Los_Angeles:20221019T193000
DTEND;TZID=America/Los_Angeles:20221019T210000
DTSTAMP:20260424T064357
CREATED:20220821T044832Z
LAST-MODIFIED:20221014T155042Z
UID:4167-1666207800-1666213200@themanaquartet.com
SUMMARY:San Jose Contemporary Music Festival featuring the Music of Chen-Yi
DESCRIPTION:San Jose Contemporary Music Festival featuring the Music of Chen-Yi\nThursday\, October 20\, 2022\n7:30 PM\nSan Jose State University Concert Hall\nOne Washington Square\, San Jose\, CA\nProlific Chinese-American composer Chen-Yi will be the composer-in-residence at the 2022 San Jose Contemporary Music Festival from October 18-20. \nJoin MANA as they Perform Chen-Yi’s Ba Yin (the eight sounds) for saxophone quartet and wind ensemble in this concert that will celebrate the music of this extraordinary composer!
URL:https://themanaquartet.com/event/san-jose-contemporary-music-festival-featuring-the-music-of-chen-yi/
LOCATION:San José State University – School of Music and Dance\, 1 Washington Square\, San José\, CA\, 95112\, United States
CATEGORIES:Concert
ATTACH;FMTTYPE=image/png:https://themanaquartet.com/wp-content/uploads/2022/08/ba-yin-chen-yi-mana-saxophone-quartet.png
END:VEVENT
BEGIN:VEVENT
DTSTART;TZID=America/Los_Angeles:20221019T120000
DTEND;TZID=America/Los_Angeles:20221019T130000
DTSTAMP:20260424T064357
CREATED:20220819T041342Z
LAST-MODIFIED:20221014T154839Z
UID:4158-1666180800-1666184400@themanaquartet.com
SUMMARY:Music at Noon Concert Series - Santa Clara University
DESCRIPTION:Music at Noon Concert Series – Santa Clara University\nWednesday\, October 19\, 2022\n12:00 PM\n \n\n\nPremier Quatuor (1857) – Jean Baptiste Singelée (1821-1875) \nPortrait of My Dead Brother* (2014) – Kevin Villalta (1989) \nDiversions in Denim (1977) – Carl Anton Wirth (1921-1986)
URL:https://themanaquartet.com/event/music-at-noon-concert-series-santa-clara-university/
LOCATION:Santa Clara University
CATEGORIES:Concert
ATTACH;FMTTYPE=image/png:https://themanaquartet.com/wp-content/uploads/2022/08/santa-clara-university-saxophone-quartet.png
END:VEVENT
BEGIN:VEVENT
DTSTART;TZID=America/Los_Angeles:20221009T080000
DTEND;TZID=America/Los_Angeles:20221009T170000
DTSTAMP:20260424T064357
CREATED:20220819T041635Z
LAST-MODIFIED:20220820T023100Z
UID:4162-1665302400-1665334800@themanaquartet.com
SUMMARY:SF Music Day - San Francisco
DESCRIPTION:SF Music Day\nSunday\, October 9\, 2022\n1:00 PM 6:40 PM\nSF Music Day was founded fourteen years ago to celebrate the Bay Area music community\, and to encourage local audiences to explore and savor the diverse range of music of our region. Each year\, the daylong festival presents dozens of ensembles performing a staggering array of repertoire\, from Baroque and classical works to contemporary compositions. \nMore details soon!
URL:https://themanaquartet.com/event/sf-music-day-san-francisco/
LOCATION:CA
CATEGORIES:Concert
END:VEVENT
BEGIN:VEVENT
DTSTART;VALUE=DATE:20220714
DTEND;VALUE=DATE:20220718
DTSTAMP:20260424T064357
CREATED:20220712T181409Z
LAST-MODIFIED:20220712T181409Z
UID:3669-1657756800-1658102399@themanaquartet.com
SUMMARY:La Belle et la Bête with OPERA PARALLÈLE | San Francisco\, CA
DESCRIPTION:OPERA PARALLÈLE PRESENTS\n\n\n\n\nLa Belle et la Bête\n\n\n\n\nby Philip Glass\nLibretto by the Composer\nbased on the film by Jean Cocteau\n\n\n\n\nA surreal new take on a\ntimeless tale\, fusing opera\n& film live on stage.\n\n\n\n\nPerformances\n\nJuly 14\, 2022 – 7:30pm\nJuly 15\, 2022 – 7:30pm\nJuly 16\, 2022 – 7:30pm\nJuly 17\, 2022 – 3pm\n\n\n\n\n\nVenue\n\nMiner Auditorium\, SFJAZZ\n\nRunning Time: 90 mins with no intermission – performed in French with English subtitles.
URL:https://themanaquartet.com/event/la-belle-et-la-bete-with-opera-parallele-san-francisco-ca/
LOCATION:CA
CATEGORIES:Concert
ATTACH;FMTTYPE=image/png:https://themanaquartet.com/wp-content/uploads/2022/07/LBLB7.png
END:VEVENT
BEGIN:VEVENT
DTSTART;VALUE=DATE:20220330
DTEND;VALUE=DATE:20220402
DTSTAMP:20260424T064357
CREATED:20200303T035351Z
LAST-MODIFIED:20220328T063240Z
UID:3384-1648598400-1648857599@themanaquartet.com
SUMMARY:Rutgers University Residency | New Brusnswick\, NJ
DESCRIPTION:Wednesday\, March 30\, 2020\nComposers Forum (workshop of Mason Gross student compositions in advance of April 1 concert)\n12 pm\nSchare Recital Hall \nWednesday\, March 30\, 2020\nMANA Quartet Concert (Works by Becker\, Mellits\, Vu\, and Zare)\n7:30 pm\nNicholas Music Center \nThursday\, March 31\, 2020\nSaxophone Masterclass (Solo and chamber works)\n5-7 pm\nSchare Recital Hall \nFriday\, April 1\, 2020\nMANA Quartet Concert of Mason Gross student compositions\n7:30 pm\nNicholas Music Center
URL:https://themanaquartet.com/event/rutgers-university-residency-new-brusnswick-nj/
LOCATION:Rutgers Univeristy
CATEGORIES:Concert,Residency
END:VEVENT
BEGIN:VEVENT
DTSTART;TZID=America/New_York:20220109T150000
DTEND;TZID=America/New_York:20220109T170000
DTSTAMP:20260424T064357
CREATED:20211127T045347Z
LAST-MODIFIED:20211127T045347Z
UID:3606-1641740400-1641747600@themanaquartet.com
SUMMARY:Peace Memorial Concert Series | Clearwater\, FL
DESCRIPTION:“Made in America\,” an eclectic program of classical works and new commissions by American Composers.  \n\n\n  \n  
URL:https://themanaquartet.com/event/peace-memorial-concert-series-clearwater-fl-2022-01/
LOCATION:Peace Memorial Presbyterian Church\, 110 S. Fort Harrison Ave\, Clearwater\, FL\, 33756\, United States
CATEGORIES:Concert
END:VEVENT
BEGIN:VEVENT
DTSTART;TZID=America/New_York:20220108T193000
DTEND;TZID=America/New_York:20220108T210000
DTSTAMP:20260424T064357
CREATED:20211127T045950Z
LAST-MODIFIED:20211127T050237Z
UID:3612-1641670200-1641675600@themanaquartet.com
SUMMARY:Timucua Arts Foundation | Orlando\, FL
DESCRIPTION:MANA performs new works written by living American composers.
URL:https://themanaquartet.com/event/timucua-arts-foundation/
LOCATION:Timucua Arts Foundation\, 2000 S Summerlin Ave\, Orlando\, FL\, 32806\, United States
CATEGORIES:Concert
END:VEVENT
BEGIN:VEVENT
DTSTART;TZID=America/New_York:20211212T180000
DTEND;TZID=America/New_York:20211212T193000
DTSTAMP:20260424T064357
CREATED:20210929T165706Z
LAST-MODIFIED:20210929T165706Z
UID:3596-1639332000-1639337400@themanaquartet.com
SUMMARY:MANA + Brooklyn Symphony Orchestra at Brooklyn Museum | Brooklyn\, NY
DESCRIPTION:December 12\, 2021 – 6:00 PM – Brooklyn Museum – The MANA Quartet will perform Philip Glass’ Concerto for Saxophone Quartet and Orchestra with the Brooklyn Symphony Orchestra.
URL:https://themanaquartet.com/event/mana-brooklyn-symphony-orchestra-at-brooklyn-museum-brooklyn-ny/
LOCATION:BrooklyMuseum\, 200 Eastern Parkway\, Brooklyn\, NY\, 11238\, United States
CATEGORIES:Concert
END:VEVENT
BEGIN:VEVENT
DTSTART;TZID=America/New_York:20211010T170000
DTEND;TZID=America/New_York:20211010T193000
DTSTAMP:20260424T064357
CREATED:20210929T154525Z
LAST-MODIFIED:20210929T154525Z
UID:3591-1633885200-1633894200@themanaquartet.com
SUMMARY:MANA + MSO at Roulette | Brooklyn\, NY
DESCRIPTION:October 10\, 2021 – 5:00 PM – Roulette\, NY\, NY – Megalopolis presents works by Nicola LeFanu\, Josiah Catalan\, and Niki Harlafti alongside winners from its 2020 Call for Scores.
URL:https://themanaquartet.com/event/mana-mso-at-roulette-brooklyn-ny/
LOCATION:Roulette\, 509 Atlantic Ave\, Brooklyn\, 11217
CATEGORIES:Concert
END:VEVENT
BEGIN:VEVENT
DTSTART;TZID=America/New_York:20211009T193000
DTEND;TZID=America/New_York:20211009T193000
DTSTAMP:20260424T064357
CREATED:20210929T153953Z
LAST-MODIFIED:20210929T154612Z
UID:3586-1633807800-1633807800@themanaquartet.com
SUMMARY:MANA + MSO at DiMenna Center for Classical Music | New York\, NY
DESCRIPTION:October 9\, 2021 – 7:30 PM – Mary Flagler Cary Hall\, DiMenna Center for Classical Music\, NY\, NY – Megalopolis presents the world premiere of Nicola LeFanu’s In the Forests of the Night for saxophone orchestra alongside new works by Josiah Catalan and Niki Harlafti.
URL:https://themanaquartet.com/event/mso-nyc-10-9/
LOCATION:DiMenna Center for Classical Music\, 450 W 37th St\, New York\, NY\, 10018\, United States
CATEGORIES:Concert
END:VEVENT
BEGIN:VEVENT
DTSTART;VALUE=DATE:20200419
DTEND;VALUE=DATE:20200420
DTSTAMP:20260424T064357
CREATED:20191014T044316Z
LAST-MODIFIED:20191014T044316Z
UID:1971-1587254400-1587340799@themanaquartet.com
SUMMARY:MANA with the MSO | San Francisco\, CA
DESCRIPTION:April 19th\, 2019 – Bethany United Methodist Church\, San Francisco\, CA – Megalopolis presents works by Catalan\, Harlafti\, and more as part of their West Coast debut.
URL:https://themanaquartet.com/event/mana-mso-sf/
LOCATION:Bethany Methodist Church – SF\, 1270 Sanchez St\, San Francisco\, CA\, 94114\, United States
CATEGORIES:Concert
END:VEVENT
BEGIN:VEVENT
DTSTART;VALUE=DATE:20200417
DTEND;VALUE=DATE:20200420
DTSTAMP:20260424T064357
CREATED:20191014T044055Z
LAST-MODIFIED:20191014T044055Z
UID:1968-1587081600-1587340799@themanaquartet.com
SUMMARY:MANA with the MSO | San Jose\, CA
DESCRIPTION:April 17th-19th\, 2019 – San Jose State University\, San Jose\, CA – Residency at San Jose State University culminating with the ensemble’s West Coast debut in works by Catalan\, Harlafti\, and more.
URL:https://themanaquartet.com/event/mana-with-the-mso-san-jose-ca/
LOCATION:School of Music and Dance – San Jose State University\, 1 Washington Square\, San Jose\, CA\, 95192\, United States
CATEGORIES:Concert,Residency
END:VEVENT
BEGIN:VEVENT
DTSTART;TZID=America/New_York:20200321T160000
DTEND;TZID=America/New_York:20200321T180000
DTSTAMP:20260424T064357
CREATED:20200303T035744Z
LAST-MODIFIED:20200303T035744Z
UID:3389-1584806400-1584813600@themanaquartet.com
SUMMARY:Piano Plus! Concert Series with John Halle | West Shokan\, NY
DESCRIPTION:MANA teams up with composer John Halle for an East Coast premiere of Street Music for saxophone quartet and other collaborations.
URL:https://themanaquartet.com/event/piano-plus-concert-series-with-john-halle-west-shokan-ny/
LOCATION:Olive Free Library
CATEGORIES:Concert
END:VEVENT
BEGIN:VEVENT
DTSTART;VALUE=DATE:20200306
DTEND;VALUE=DATE:20200310
DTSTAMP:20260424T064357
CREATED:20200303T034415Z
LAST-MODIFIED:20200303T205602Z
UID:3380-1583452800-1583798399@themanaquartet.com
SUMMARY:North American Saxophone Alliance Biennial Conference | Tempe\, AZ
DESCRIPTION:Conference Performances\nSaturday 3/7\n2:00 PM in Katzin Hall | MANA Quartet  – *World Premieres* of music by Dan Becker and Gabriel Bolaños\n3:40 PM  in Katzin Hall | Diane Hunger – Concert Piece\, by Stephen Dankner\n4:00 PM in Recital Hall | Michael Mortarotti – Allegro\, Cadenza\, e Adagio\, by Werner Wolf Glaser \nSunday 3/8\n4:20 PM in Nelson Fine Arts Center Plaza | Michael Hernandez conducts the SJSU Saxophone Orchestra \n\n\nDiscourse\, for saxophone quartet and electronics\, explores the perceptual distance between speech and music. The performers are accompanied by a fixed tape part that combines samples of multiple international poets reading their work in their native languages. When listening to speech in a language we understand\, our attention is so focused on deciphering the meaning of the speech\, that we are unable to focus deeply on the speech sounds. By juxtaposing and combining multiple different speech samples in different languages\, I hope to attune listeners to the beautiful\, complex sounds of speech\, and focus listeners’ attention towards a musical mode of listening to language. \nThis piece was originally composed in 2018 for three members of the MANA quartet\, and was significantly revised in 2020 for the full saxophone quartet.
URL:https://themanaquartet.com/event/north-american-saxophone-alliance-biennial-conference-tempe-az/
LOCATION:Arizona State University
CATEGORIES:Concert
END:VEVENT
END:VCALENDAR