BEGIN:VCALENDAR
VERSION:2.0
PRODID:-//MANA Quartet - ECPv6.15.20//NONSGML v1.0//EN
CALSCALE:GREGORIAN
METHOD:PUBLISH
X-WR-CALNAME:MANA Quartet
X-ORIGINAL-URL:https://themanaquartet.com
X-WR-CALDESC:Events for MANA Quartet
REFRESH-INTERVAL;VALUE=DURATION:PT1H
X-Robots-Tag:noindex
X-PUBLISHED-TTL:PT1H
BEGIN:VTIMEZONE
TZID:America/Denver
BEGIN:DAYLIGHT
TZOFFSETFROM:-0700
TZOFFSETTO:-0600
TZNAME:MDT
DTSTART:20140309T090000
END:DAYLIGHT
BEGIN:STANDARD
TZOFFSETFROM:-0600
TZOFFSETTO:-0700
TZNAME:MST
DTSTART:20141102T080000
END:STANDARD
BEGIN:DAYLIGHT
TZOFFSETFROM:-0700
TZOFFSETTO:-0600
TZNAME:MDT
DTSTART:20150308T090000
END:DAYLIGHT
BEGIN:STANDARD
TZOFFSETFROM:-0600
TZOFFSETTO:-0700
TZNAME:MST
DTSTART:20151101T080000
END:STANDARD
BEGIN:DAYLIGHT
TZOFFSETFROM:-0700
TZOFFSETTO:-0600
TZNAME:MDT
DTSTART:20160313T090000
END:DAYLIGHT
BEGIN:STANDARD
TZOFFSETFROM:-0600
TZOFFSETTO:-0700
TZNAME:MST
DTSTART:20161106T080000
END:STANDARD
END:VTIMEZONE
BEGIN:VEVENT
DTSTART;VALUE=DATE:20150227
DTEND;VALUE=DATE:20150228
DTSTAMP:20260422T031307
CREATED:20151118T133832Z
LAST-MODIFIED:20151118T133832Z
UID:445-1424995200-1425081599@themanaquartet.com
SUMMARY:Colorado State University at Pueblo
DESCRIPTION:Mana will perform quartets by Stephen Dankner\, Jean-Baptiste Singelee\, and J.S. Bach\, showcasing the diversity of the saxophone quartet. \nHosted by Colorado State University at Pueblo. Mana will have an open Q&A session for the school of music\, teach masterclasses and give an evening recital on campus.\n  
URL:https://themanaquartet.com/event/colorado-state-university-at-pueblo/
LOCATION:Unnamed Venue\, Pueblo\, CO\, United States
CATEGORIES:Concert,Residency
END:VEVENT
END:VCALENDAR