BEGIN:VCALENDAR
VERSION:2.0
PRODID:-//MANA Quartet - ECPv6.15.20//NONSGML v1.0//EN
CALSCALE:GREGORIAN
METHOD:PUBLISH
X-WR-CALNAME:MANA Quartet
X-ORIGINAL-URL:https://themanaquartet.com
X-WR-CALDESC:Events for MANA Quartet
REFRESH-INTERVAL;VALUE=DURATION:PT1H
X-Robots-Tag:noindex
X-PUBLISHED-TTL:PT1H
BEGIN:VTIMEZONE
TZID:America/Los_Angeles
BEGIN:DAYLIGHT
TZOFFSETFROM:-0800
TZOFFSETTO:-0700
TZNAME:PDT
DTSTART:20160313T100000
END:DAYLIGHT
BEGIN:STANDARD
TZOFFSETFROM:-0700
TZOFFSETTO:-0800
TZNAME:PST
DTSTART:20161106T090000
END:STANDARD
BEGIN:DAYLIGHT
TZOFFSETFROM:-0800
TZOFFSETTO:-0700
TZNAME:PDT
DTSTART:20170312T100000
END:DAYLIGHT
BEGIN:STANDARD
TZOFFSETFROM:-0700
TZOFFSETTO:-0800
TZNAME:PST
DTSTART:20171105T090000
END:STANDARD
BEGIN:DAYLIGHT
TZOFFSETFROM:-0800
TZOFFSETTO:-0700
TZNAME:PDT
DTSTART:20180311T100000
END:DAYLIGHT
BEGIN:STANDARD
TZOFFSETFROM:-0700
TZOFFSETTO:-0800
TZNAME:PST
DTSTART:20181104T090000
END:STANDARD
BEGIN:DAYLIGHT
TZOFFSETFROM:-0800
TZOFFSETTO:-0700
TZNAME:PDT
DTSTART:20190310T100000
END:DAYLIGHT
BEGIN:STANDARD
TZOFFSETFROM:-0700
TZOFFSETTO:-0800
TZNAME:PST
DTSTART:20191103T090000
END:STANDARD
BEGIN:DAYLIGHT
TZOFFSETFROM:-0800
TZOFFSETTO:-0700
TZNAME:PDT
DTSTART:20200308T100000
END:DAYLIGHT
BEGIN:STANDARD
TZOFFSETFROM:-0700
TZOFFSETTO:-0800
TZNAME:PST
DTSTART:20201101T090000
END:STANDARD
END:VTIMEZONE
BEGIN:VTIMEZONE
TZID:UTC
BEGIN:STANDARD
TZOFFSETFROM:+0000
TZOFFSETTO:+0000
TZNAME:UTC
DTSTART:20160101T000000
END:STANDARD
END:VTIMEZONE
BEGIN:VTIMEZONE
TZID:America/New_York
BEGIN:DAYLIGHT
TZOFFSETFROM:-0500
TZOFFSETTO:-0400
TZNAME:EDT
DTSTART:20170312T070000
END:DAYLIGHT
BEGIN:STANDARD
TZOFFSETFROM:-0400
TZOFFSETTO:-0500
TZNAME:EST
DTSTART:20171105T060000
END:STANDARD
BEGIN:DAYLIGHT
TZOFFSETFROM:-0500
TZOFFSETTO:-0400
TZNAME:EDT
DTSTART:20180311T070000
END:DAYLIGHT
BEGIN:STANDARD
TZOFFSETFROM:-0400
TZOFFSETTO:-0500
TZNAME:EST
DTSTART:20181104T060000
END:STANDARD
BEGIN:DAYLIGHT
TZOFFSETFROM:-0500
TZOFFSETTO:-0400
TZNAME:EDT
DTSTART:20190310T070000
END:DAYLIGHT
BEGIN:STANDARD
TZOFFSETFROM:-0400
TZOFFSETTO:-0500
TZNAME:EST
DTSTART:20191103T060000
END:STANDARD
END:VTIMEZONE
BEGIN:VEVENT
DTSTART;TZID=America/Los_Angeles:20190412T080000
DTEND;TZID=America/Los_Angeles:20190412T170000
DTSTAMP:20260421T161204
CREATED:20180912T063523Z
LAST-MODIFIED:20200130T090543Z
UID:1347-1555056000-1555088400@themanaquartet.com
SUMMARY:Concerto with SJSU Wind Ensemble | Clovis\, CA
DESCRIPTION:San Joaquin Valley Concert Band Invitational\nPhilip Glass’ Concerto for Saxophone Quartet with Wind Ensemble
URL:https://themanaquartet.com/event/concerto-with-sjsu-wind-ensemble-clovis-ca/
CATEGORIES:Concert
END:VEVENT
BEGIN:VEVENT
DTSTART;VALUE=DATE:20190411
DTEND;VALUE=DATE:20190412
DTSTAMP:20260421T161204
CREATED:20180912T060715Z
LAST-MODIFIED:20200130T193041Z
UID:1345-1554940800-1555027199@themanaquartet.com
SUMMARY:MANA Quartet Recital @ SJSU
DESCRIPTION:Program TBD
URL:https://themanaquartet.com/event/mana-quartet-recital-sjsu/
LOCATION:San José State University – School of Music and Dance\, 1 Washington Square\, San José\, CA\, 95112\, United States
CATEGORIES:Concert,Residency
END:VEVENT
BEGIN:VEVENT
DTSTART;VALUE=DATE:20190411
DTEND;VALUE=DATE:20190412
DTSTAMP:20260421T161204
CREATED:20180912T060451Z
LAST-MODIFIED:20190111T070957Z
UID:1342-1554940800-1555027199@themanaquartet.com
SUMMARY:Masterclass with SJSU Saxophone Studio | San Jose\, CA
DESCRIPTION:Masterclass in School of Music and Dance with SJSU Saxophone studio – Timing TBD
URL:https://themanaquartet.com/event/masterclass-with-sjsu-saxophone-studio-san-jose-ca/
LOCATION:San José State University – School of Music and Dance\, 1 Washington Square\, San José\, CA\, 95112\, United States
CATEGORIES:Residency
END:VEVENT
BEGIN:VEVENT
DTSTART;TZID=America/Los_Angeles:20190410T193000
DTEND;TZID=America/Los_Angeles:20190410T213000
DTSTAMP:20260421T161204
CREATED:20180912T060238Z
LAST-MODIFIED:20200131T163755Z
UID:1340-1554924600-1554931800@themanaquartet.com
SUMMARY:Concerto with San Jose State University Wind Ensemble
DESCRIPTION:*World Premiere* of Philip Glass’ Concerto for Saxophone Quartet with Wind Ensemble!
URL:https://themanaquartet.com/event/concerto-with-san-jose-state-university-wind-ensemble/
LOCATION:San José State University – School of Music and Dance\, 1 Washington Square\, San José\, CA\, 95112\, United States
CATEGORIES:Concert,Residency
END:VEVENT
BEGIN:VEVENT
DTSTART;TZID=America/Los_Angeles:20190409T200000
DTEND;TZID=America/Los_Angeles:20190409T220000
DTSTAMP:20260421T161204
CREATED:20180912T055551Z
LAST-MODIFIED:20200204T133635Z
UID:1332-1554840000-1554847200@themanaquartet.com
SUMMARY:Berkeley Chamber Performances | Berkeley\, CA
DESCRIPTION:Program\nJ.S. Bach: Italian Konzert\nW.A. Mozart: Oboe Quartet in F Major\nAlexander Glazunov: Saxophone Quartet\, Op. 109\nTristan Keuris: Music for Saxophones\nPhilip Glass: Saxophone Quartet \n\n\n\n\n*Students through High School are admitted for free. Higher Ed students with valid ID $15.
URL:https://themanaquartet.com/event/berkeley-chamber-performances-berkeley-ca/
LOCATION:Berkeley Chamber Performances: Berkeley City Club\, 2315 Durant Avenue\, Berkeley\, CA\, 94704\, United States
CATEGORIES:Concert
END:VEVENT
BEGIN:VEVENT
DTSTART;TZID=America/Los_Angeles:20190329T190000
DTEND;TZID=America/Los_Angeles:20190329T210000
DTSTAMP:20260421T161204
CREATED:20190211T175758Z
LAST-MODIFIED:20190221T171419Z
UID:1712-1553886000-1553893200@themanaquartet.com
SUMMARY:Peridot Green: The Hex | NYC - Upper West Side
DESCRIPTION:Quartett for Four Saxophones Op. 109 (1932) Alexander Glazunov\nI. Partie\nII.Canzona Variée:\nTheme\nVariation 1\nVariation 2\nVariation 3 (a la Schumann)\nVariation 4 (a la Chopin)\nVariation 5 (a la Mendelssohn)\nIII. Finale \nSaxophone Quartet (1995) Philip Glass\nI.\nII.\nIII.\nIV.
URL:https://themanaquartet.com/event/peridot-green-the-hex-nyc-upper-west-side/
LOCATION:Peridot Green\, New York\, NY\, United States
CATEGORIES:Concert
END:VEVENT
BEGIN:VEVENT
DTSTART;TZID=America/Los_Angeles:20190312T150000
DTEND;TZID=America/Los_Angeles:20190312T170000
DTSTAMP:20260421T161204
CREATED:20181009T063847Z
LAST-MODIFIED:20200131T171826Z
UID:1409-1552402800-1552410000@themanaquartet.com
SUMMARY:Lively Arts Concert Series | Tucson\, AZ
DESCRIPTION:MANA Quartet recital | Repertoire TBD
URL:https://themanaquartet.com/event/lively-arts-concert-series-tucson-az/
CATEGORIES:Concert,Outreach
END:VEVENT
BEGIN:VEVENT
DTSTART;VALUE=DATE:20190308
DTEND;VALUE=DATE:20190311
DTSTAMP:20260421T161204
CREATED:20181009T063709Z
LAST-MODIFIED:20190111T065948Z
UID:1406-1552003200-1552262399@themanaquartet.com
SUMMARY:North American Saxophone Alliance Conference | Tucson\, AZ
DESCRIPTION:Performance of Tristan Keuris’ Music for Saxophones.
URL:https://themanaquartet.com/event/north-american-saxophone-alliance-conference-tucson-az/
LOCATION:University of Arizona\, 1017 N Olive Rd\, Tucson\, AZ\, 85719\, United States
CATEGORIES:Concert
END:VEVENT
BEGIN:VEVENT
DTSTART;TZID=America/Los_Angeles:20190120T193000
DTEND;TZID=America/Los_Angeles:20190120T213000
DTSTAMP:20260421T161204
CREATED:20181009T064228Z
LAST-MODIFIED:20200130T104345Z
UID:1412-1548012600-1548019800@themanaquartet.com
SUMMARY:MANA with ECHO Chamber Orchestra | San Rafael\, CA
DESCRIPTION:Second U.S. performance of Sally Beamish’s Chamber Concerto for saxophone quartet and string orchestra.
URL:https://themanaquartet.com/event/mana-with-echo-chamber-orchestra-san-rafael-ca/
LOCATION:First Presbyterian Church\, 72 Kensington Road\, San Anselmo\, CA\, 94960\, United States
CATEGORIES:Concert
ATTACH;FMTTYPE=image/png:https://themanaquartet.com/wp-content/uploads/2018/10/EchoPoster1_2019.png
END:VEVENT
BEGIN:VEVENT
DTSTART;TZID=America/Los_Angeles:20190115T120000
DTEND;TZID=America/Los_Angeles:20190115T140000
DTSTAMP:20260421T161204
CREATED:20181009T064406Z
LAST-MODIFIED:20200130T131524Z
UID:1415-1547553600-1547560800@themanaquartet.com
SUMMARY:Noontime Chamber Series | San Francisco\, CA
DESCRIPTION:J.S Bach\, Italian Konsert \nCaryl Florio\, Quartette \nPhilip Glass\, Saxophone Quartet \n\n\n 
URL:https://themanaquartet.com/event/noontime-chamber-series-san-francisco-ca/
LOCATION:Old St Mary’s Cathedral\, 660 California St\, San Francisco\, CA\, 94108\, United States
CATEGORIES:Concert
END:VEVENT
BEGIN:VEVENT
DTSTART;TZID=America/Los_Angeles:20180714T140000
DTEND;TZID=America/Los_Angeles:20180714T170000
DTSTAMP:20260421T161204
CREATED:20180619T065715Z
LAST-MODIFIED:20200130T152111Z
UID:1257-1531576800-1531587600@themanaquartet.com
SUMMARY:MSI Final Concert | Saxophone Orchestra
DESCRIPTION:2018 MANA Saxophone Institute final performance with the MSI Saxophone Orchestra. \nProgram  \nTBD
URL:https://themanaquartet.com/event/msi-final-concert-2018/
LOCATION:San José State University – School of Music and Dance\, 1 Washington Square\, San José\, CA\, 95112\, United States
CATEGORIES:Concert,Residency,Workshop
END:VEVENT
BEGIN:VEVENT
DTSTART;TZID=America/Los_Angeles:20180712T193000
DTEND;TZID=America/Los_Angeles:20180712T213000
DTSTAMP:20260421T161204
CREATED:20180619T065526Z
LAST-MODIFIED:20200131T004703Z
UID:1254-1531423800-1531431000@themanaquartet.com
SUMMARY:MSI Evening Concert
DESCRIPTION:Performance by participants of the 2018 MANA Saxophone Institute.  \nProgram  \nTBD
URL:https://themanaquartet.com/event/msi-evening-concert-2/
LOCATION:San José State University – School of Music and Dance\, 1 Washington Square\, San José\, CA\, 95112\, United States
CATEGORIES:Concert,Residency,Workshop
END:VEVENT
BEGIN:VEVENT
DTSTART;TZID=America/Los_Angeles:20180712T193000
DTEND;TZID=America/Los_Angeles:20180712T213000
DTSTAMP:20260421T161204
CREATED:20180619T065357Z
LAST-MODIFIED:20200131T055845Z
UID:1251-1531423800-1531431000@themanaquartet.com
SUMMARY:MSI Evening Concert
DESCRIPTION:Performance by participants of the 2018 MANA Saxophone Institute.  \nProgram  \nTBD
URL:https://themanaquartet.com/event/msi-evening-concert/
LOCATION:San José State University – School of Music and Dance\, 1 Washington Square\, San José\, CA\, 95112\, United States
CATEGORIES:Concert,Residency,Workshop
END:VEVENT
BEGIN:VEVENT
DTSTART;TZID=America/Los_Angeles:20180711T193000
DTEND;TZID=America/Los_Angeles:20180711T213000
DTSTAMP:20260421T161204
CREATED:20180619T065218Z
LAST-MODIFIED:20200131T024800Z
UID:1249-1531337400-1531344600@themanaquartet.com
SUMMARY:Original Works for Saxophone
DESCRIPTION:Evening recital by members of the MANA Quartet performing original works by contemporary composers. \nProgram: \nTBD
URL:https://themanaquartet.com/event/original-works-for-saxophone/
LOCATION:San José State University – School of Music and Dance\, 1 Washington Square\, San José\, CA\, 95112\, United States
CATEGORIES:Concert,Residency,Workshop
END:VEVENT
BEGIN:VEVENT
DTSTART;TZID=America/Los_Angeles:20180710T193000
DTEND;TZID=America/Los_Angeles:20180710T213000
DTSTAMP:20260421T161204
CREATED:20180619T064900Z
LAST-MODIFIED:20200130T070120Z
UID:1246-1531251000-1531258200@themanaquartet.com
SUMMARY:[un]Original Works for Saxophone
DESCRIPTION:Evening recital entirely comprised of transcriptions performed by members of the MANA Quartet. \nProgram: \nTBA
URL:https://themanaquartet.com/event/unoriginal-works-for-saxophone/
LOCATION:San José State University – School of Music and Dance\, 1 Washington Square\, San José\, CA\, 95112\, United States
CATEGORIES:Concert,Residency,Workshop
END:VEVENT
BEGIN:VEVENT
DTSTART;TZID=America/Los_Angeles:20180709T193000
DTEND;TZID=America/Los_Angeles:20180709T213000
DTSTAMP:20260421T161204
CREATED:20180619T064500Z
LAST-MODIFIED:20200130T232737Z
UID:1241-1531164600-1531171800@themanaquartet.com
SUMMARY:MANA Saxophone Institute Opening Recital | MANA Quartet
DESCRIPTION:Evening recital by the MANA Quartet. \nProgram: \nJ.S. Bach – The Italian Concerto\nPhilip Glass – Saxophone Quartet\nKrzysztof Penderecki – Quartet\nMathew Rosenblum – Möbius Loop
URL:https://themanaquartet.com/event/mana-saxophone-institute-opening-recital-mana-quartet/
LOCATION:San José State University – School of Music and Dance\, 1 Washington Square\, San José\, CA\, 95112\, United States
CATEGORIES:Concert,Residency,Workshop
END:VEVENT
BEGIN:VEVENT
DTSTART;VALUE=DATE:20180708
DTEND;VALUE=DATE:20180715
DTSTAMP:20260421T161204
CREATED:20180314T161958Z
LAST-MODIFIED:20200131T163900Z
UID:871-1531008000-1531612799@themanaquartet.com
SUMMARY:MANA Saxophone Institute 2018 | San Jose State University
DESCRIPTION:For in depth information about this year’s MSI\, including registration information\, visit the following link: https://themanaquartet.com/institute/ \nDownload PDF Version
URL:https://themanaquartet.com/event/mana-saxophone-institute-2018-san-jose-state-university/
LOCATION:San José State University – School of Music and Dance\, 1 Washington Square\, San José\, CA\, 95112\, United States
CATEGORIES:Concert,Residency,Workshop
END:VEVENT
BEGIN:VEVENT
DTSTART;VALUE=DATE:20180511
DTEND;VALUE=DATE:20180515
DTSTAMP:20260421T161204
CREATED:20170804T223228Z
LAST-MODIFIED:20200201T020045Z
UID:785-1525996800-1526342399@themanaquartet.com
SUMMARY:MANA with Resound Ensemble
DESCRIPTION:3 performances of Giya Kancheli’s Amao Omi with Resound Ensemble in San Francisco\, CA. \nAll performances take place at Noe Valley Ministry in San Francisco. \n\nFriday\, May 11 at 8pm\nSaturday\, May 12 at 8pm\nMonday\, May 14 at 7:30pm\n\nTickets will be available through Eventbrite \n\nGeneral Admission – $20\nGeneral Admission for Children – $10\nReserved Premiere Seating (all ages) – $30
URL:https://themanaquartet.com/event/mana-with-resound-ensemble/
CATEGORIES:Concert
END:VEVENT
BEGIN:VEVENT
DTSTART;TZID=America/New_York:20180420T200000
DTEND;TZID=America/New_York:20180420T213000
DTSTAMP:20260421T161204
CREATED:20180405T145313Z
LAST-MODIFIED:20200130T085659Z
UID:1173-1524254400-1524259800@themanaquartet.com
SUMMARY:MANA Quartet Chamber Recital | Syracuse University
DESCRIPTION:Program\nPortrait of My Dead Brother | Kevin Villalta\nKafka | David Sanford\nRoads to Ixtlan | Per Nørgård\nI want to Unfold | Jay Derderian\nSaxophone Quartet | Philip Glass
URL:https://themanaquartet.com/event/mana-quartet-chamber-recital-syracuse-university/
LOCATION:Syracuse University\, Syracuse\, NY\, United States
CATEGORIES:Concert,Residency
END:VEVENT
BEGIN:VEVENT
DTSTART;TZID=America/New_York:20180419T200000
DTEND;TZID=America/New_York:20180419T213000
DTSTAMP:20260421T161204
CREATED:20171204T160530Z
LAST-MODIFIED:20200131T081656Z
UID:806-1524168000-1524173400@themanaquartet.com
SUMMARY:Concerto with SU Wind Ensemble - Syracuse\, NY
DESCRIPTION:Premiere of Nic Scherzinger’s concerto for saxophone quartet and wind ensemble.
URL:https://themanaquartet.com/event/concerto-with-su-wind-ensemble-syracuse-ny/
LOCATION:Syracuse University\, Syracuse\, NY\, United States
CATEGORIES:Concert,Residency
END:VEVENT
BEGIN:VEVENT
DTSTART;VALUE=DATE:20180419
DTEND;VALUE=DATE:20180420
DTSTAMP:20260421T161204
CREATED:20171204T160205Z
LAST-MODIFIED:20200130T232159Z
UID:803-1524096000-1524182399@themanaquartet.com
SUMMARY:WWBW Masterclass - Syracuse\, NY
DESCRIPTION:Masterclass with Syracuse University students – details TBD
URL:https://themanaquartet.com/event/wwbw-masterclass-syracuse-ny/
LOCATION:Syracuse University\, Syracuse\, NY\, United States
CATEGORIES:Residency
END:VEVENT
BEGIN:VEVENT
DTSTART;VALUE=DATE:20180416
DTEND;VALUE=DATE:20180419
DTSTAMP:20260421T161204
CREATED:20170823T225151Z
LAST-MODIFIED:20200131T174921Z
UID:791-1523836800-1524095999@themanaquartet.com
SUMMARY:Syracuse University Residency
DESCRIPTION:Week-long residency at Syracuse University\, including the premiere of a new Concerto by Nic Scherzinger and a MANA Quartet only chamber recital. \nMore information here: Concerto | Recital \n 
URL:https://themanaquartet.com/event/syracuse-university-residency/
CATEGORIES:Concert,Residency
END:VEVENT
BEGIN:VEVENT
DTSTART;VALUE=DATE:20180316
DTEND;VALUE=DATE:20180317
DTSTAMP:20260421T161204
CREATED:20170804T223116Z
LAST-MODIFIED:20200102T120618Z
UID:783-1521158400-1521244799@themanaquartet.com
SUMMARY:MANA Trio at Boston Court
DESCRIPTION:MANA Trio concet. Details TBD.
URL:https://themanaquartet.com/event/mana-trio-at-boston-court/
CATEGORIES:Concert
END:VEVENT
BEGIN:VEVENT
DTSTART;VALUE=DATE:20180315
DTEND;VALUE=DATE:20180316
DTSTAMP:20260421T161204
CREATED:20170804T223012Z
LAST-MODIFIED:20200202T062521Z
UID:781-1521072000-1521158399@themanaquartet.com
SUMMARY:CSU Northridge Concert and Masterclass
DESCRIPTION:MANA Trio concert – details tbd
URL:https://themanaquartet.com/event/csu-northridge-concert-and-masterclass/
CATEGORIES:Concert,Residency
END:VEVENT
BEGIN:VEVENT
DTSTART;TZID=America/Los_Angeles:20180206T160000
DTEND;TZID=America/Los_Angeles:20180206T180000
DTSTAMP:20260421T161204
CREATED:20170804T222854Z
LAST-MODIFIED:20200130T134453Z
UID:779-1517932800-1517940000@themanaquartet.com
SUMMARY:Music at Four - The Sequoias - Portola Valley\, CA
DESCRIPTION:trio concert – details tba
URL:https://themanaquartet.com/event/music-at-four/
CATEGORIES:Concert
END:VEVENT
BEGIN:VEVENT
DTSTART;TZID=America/Los_Angeles:20180204T193000
DTEND;TZID=America/Los_Angeles:20180204T213000
DTSTAMP:20260421T161204
CREATED:20170804T222740Z
LAST-MODIFIED:20200130T064741Z
UID:777-1517772600-1517779800@themanaquartet.com
SUMMARY:MANA with Echo Chamber Orchestra
DESCRIPTION:ECHO Meets MANA\nDon’t miss a rare opportunity to hear Swedish composer Anders Nilsson‘s endlessly virtuosic Krasch! for saxophone quartet and percussion ensemble. If that wasn’t enough\, stay and listen to one of Philip Glass‘ most famous works\, the Concerto for Saxophone Quartet. \nFull Program\nFranz Schubert – Symphony No. 6 in C Major\nAnders Nilsson – Krasch! – Anders Nilsson\nConcerto for Saxophone Quartet – Philip Glass \nTickets are available HERE\nSeniors & Students: $15\nGeneral Seating: $25\nPreferred Seating: $35
URL:https://themanaquartet.com/event/mana-with-echo-chamber-orchestra/
LOCATION:First Presbyterian Church\, 72 Kensington Road\, San Anselmo\, CA\, 94960\, United States
CATEGORIES:Concert
END:VEVENT
BEGIN:VEVENT
DTSTART;VALUE=DATE:20180128
DTEND;VALUE=DATE:20180129
DTSTAMP:20260421T161204
CREATED:20170823T225452Z
LAST-MODIFIED:20200202T062602Z
UID:794-1517097600-1517183999@themanaquartet.com
SUMMARY:San Jose Chamber Orchestra Gala - San Jose\, CA
DESCRIPTION:-private event-
URL:https://themanaquartet.com/event/san-jose-chamber-orchestra-gala-san-jose-ca/
CATEGORIES:Concert
END:VEVENT
BEGIN:VEVENT
DTSTART;TZID=UTC:20171008T150000
DTEND;TZID=UTC:20171008T170000
DTSTAMP:20260421T161204
CREATED:20170804T222517Z
LAST-MODIFIED:20200202T023602Z
UID:770-1507474800-1507482000@themanaquartet.com
SUMMARY:Good Shepherd Concerts - Belmont\, CA
DESCRIPTION:MANA Trio concert. details tba
URL:https://themanaquartet.com/event/good-shepherd-concerts-belmont-ca/
CATEGORIES:Concert
END:VEVENT
BEGIN:VEVENT
DTSTART;VALUE=DATE:20170708
DTEND;VALUE=DATE:20170716
DTSTAMP:20260421T161204
CREATED:20170428T044345Z
LAST-MODIFIED:20200102T095258Z
UID:741-1499472000-1500163199@themanaquartet.com
SUMMARY:MANA Saxophone Institute 2017 | Hattiesburg\, MS
DESCRIPTION:Join the MANA Quartet at the University of Southern Mississippi this July 8-15! \nInformation available here: https://www.manasaxophoneinstitute.com
URL:https://themanaquartet.com/event/mana-saxophone-institute-2017-hattiesburg-ms/
LOCATION:Marsh Auditorium\, 124 Golden Eagle Ave\, Hattiesburg\, MS\, 39401\, United States
CATEGORIES:Concert,Residency
END:VEVENT
BEGIN:VEVENT
DTSTART;TZID=America/Los_Angeles:20170520T200000
DTEND;TZID=America/Los_Angeles:20170520T220000
DTSTAMP:20260421T161204
CREATED:20170306T080753Z
LAST-MODIFIED:20200130T223027Z
UID:700-1495310400-1495317600@themanaquartet.com
SUMMARY:MANA with New Century Chamber Orchestra | San Francisco\, CA
DESCRIPTION:Mana will join NCCO and Anne-Marie Mcdermott for an all Gershwin farewell to music director Nadja Salerno-Sonnenberg at the Herbst Theatre in San Francisco. \nCelebrate New Century Chamber Orchestra’s historic 25th Anniversary Season in 2016-2017! Highlighting the extraordinary achievements of both the ensemble and Nadja Salerno-Sonnenberg\, who enters her final season as music director\, the season features a debut appearance by internationally acclaimed Israeli pianist Inon Barnatan; award-winning Australian/Taiwanese violinist Ray Chen as guest concertmaster; a repeat collaboration with GRAMMY Award–winning Chanticleer; and pianist Anne-Marie McDermott. The season concludes with a weeklong San Francisco festival that celebrates the ensemble’s illustrious 25-year history in three separate\, one-night-only programs including Nadja’s final appearances with New Century. \nMANA performers in this concert: \nMichael Hernandez\nMichael Mortarotti\nEric Barreto-Maymi
URL:https://themanaquartet.com/event/mana-with-new-century-chamber-orchestra-san-francisco-ca/
LOCATION:Herbst Theatre\, 401 Van Ness Avenue\, San Francisco\, CA\, 94102\, United States
CATEGORIES:Concert
END:VEVENT
END:VCALENDAR