BEGIN:VCALENDAR
VERSION:2.0
PRODID:-//MANA Quartet - ECPv6.15.20//NONSGML v1.0//EN
CALSCALE:GREGORIAN
METHOD:PUBLISH
X-WR-CALNAME:MANA Quartet
X-ORIGINAL-URL:https://themanaquartet.com
X-WR-CALDESC:Events for MANA Quartet
REFRESH-INTERVAL;VALUE=DURATION:PT1H
X-Robots-Tag:noindex
X-PUBLISHED-TTL:PT1H
BEGIN:VTIMEZONE
TZID:UTC
BEGIN:STANDARD
TZOFFSETFROM:+0000
TZOFFSETTO:+0000
TZNAME:UTC
DTSTART:20140101T000000
END:STANDARD
END:VTIMEZONE
BEGIN:VTIMEZONE
TZID:America/New_York
BEGIN:DAYLIGHT
TZOFFSETFROM:-0500
TZOFFSETTO:-0400
TZNAME:EDT
DTSTART:20140309T070000
END:DAYLIGHT
BEGIN:STANDARD
TZOFFSETFROM:-0400
TZOFFSETTO:-0500
TZNAME:EST
DTSTART:20141102T060000
END:STANDARD
BEGIN:DAYLIGHT
TZOFFSETFROM:-0500
TZOFFSETTO:-0400
TZNAME:EDT
DTSTART:20150308T070000
END:DAYLIGHT
BEGIN:STANDARD
TZOFFSETFROM:-0400
TZOFFSETTO:-0500
TZNAME:EST
DTSTART:20151101T060000
END:STANDARD
BEGIN:DAYLIGHT
TZOFFSETFROM:-0500
TZOFFSETTO:-0400
TZNAME:EDT
DTSTART:20160313T070000
END:DAYLIGHT
BEGIN:STANDARD
TZOFFSETFROM:-0400
TZOFFSETTO:-0500
TZNAME:EST
DTSTART:20161106T060000
END:STANDARD
BEGIN:DAYLIGHT
TZOFFSETFROM:-0500
TZOFFSETTO:-0400
TZNAME:EDT
DTSTART:20170312T070000
END:DAYLIGHT
BEGIN:STANDARD
TZOFFSETFROM:-0400
TZOFFSETTO:-0500
TZNAME:EST
DTSTART:20171105T060000
END:STANDARD
END:VTIMEZONE
BEGIN:VTIMEZONE
TZID:America/Chicago
BEGIN:DAYLIGHT
TZOFFSETFROM:-0600
TZOFFSETTO:-0500
TZNAME:CDT
DTSTART:20150308T080000
END:DAYLIGHT
BEGIN:STANDARD
TZOFFSETFROM:-0500
TZOFFSETTO:-0600
TZNAME:CST
DTSTART:20151101T070000
END:STANDARD
BEGIN:DAYLIGHT
TZOFFSETFROM:-0600
TZOFFSETTO:-0500
TZNAME:CDT
DTSTART:20160313T080000
END:DAYLIGHT
BEGIN:STANDARD
TZOFFSETFROM:-0500
TZOFFSETTO:-0600
TZNAME:CST
DTSTART:20161106T070000
END:STANDARD
BEGIN:DAYLIGHT
TZOFFSETFROM:-0600
TZOFFSETTO:-0500
TZNAME:CDT
DTSTART:20170312T080000
END:DAYLIGHT
BEGIN:STANDARD
TZOFFSETFROM:-0500
TZOFFSETTO:-0600
TZNAME:CST
DTSTART:20171105T070000
END:STANDARD
END:VTIMEZONE
BEGIN:VTIMEZONE
TZID:America/North_Dakota/Center
BEGIN:DAYLIGHT
TZOFFSETFROM:-0600
TZOFFSETTO:-0500
TZNAME:CDT
DTSTART:20140309T080000
END:DAYLIGHT
BEGIN:STANDARD
TZOFFSETFROM:-0500
TZOFFSETTO:-0600
TZNAME:CST
DTSTART:20141102T070000
END:STANDARD
BEGIN:DAYLIGHT
TZOFFSETFROM:-0600
TZOFFSETTO:-0500
TZNAME:CDT
DTSTART:20150308T080000
END:DAYLIGHT
BEGIN:STANDARD
TZOFFSETFROM:-0500
TZOFFSETTO:-0600
TZNAME:CST
DTSTART:20151101T070000
END:STANDARD
BEGIN:DAYLIGHT
TZOFFSETFROM:-0600
TZOFFSETTO:-0500
TZNAME:CDT
DTSTART:20160313T080000
END:DAYLIGHT
BEGIN:STANDARD
TZOFFSETFROM:-0500
TZOFFSETTO:-0600
TZNAME:CST
DTSTART:20161106T070000
END:STANDARD
BEGIN:DAYLIGHT
TZOFFSETFROM:-0600
TZOFFSETTO:-0500
TZNAME:CDT
DTSTART:20170312T080000
END:DAYLIGHT
BEGIN:STANDARD
TZOFFSETFROM:-0500
TZOFFSETTO:-0600
TZNAME:CST
DTSTART:20171105T070000
END:STANDARD
END:VTIMEZONE
BEGIN:VTIMEZONE
TZID:America/Los_Angeles
BEGIN:DAYLIGHT
TZOFFSETFROM:-0800
TZOFFSETTO:-0700
TZNAME:PDT
DTSTART:20140309T100000
END:DAYLIGHT
BEGIN:STANDARD
TZOFFSETFROM:-0700
TZOFFSETTO:-0800
TZNAME:PST
DTSTART:20141102T090000
END:STANDARD
BEGIN:DAYLIGHT
TZOFFSETFROM:-0800
TZOFFSETTO:-0700
TZNAME:PDT
DTSTART:20150308T100000
END:DAYLIGHT
BEGIN:STANDARD
TZOFFSETFROM:-0700
TZOFFSETTO:-0800
TZNAME:PST
DTSTART:20151101T090000
END:STANDARD
BEGIN:DAYLIGHT
TZOFFSETFROM:-0800
TZOFFSETTO:-0700
TZNAME:PDT
DTSTART:20160313T100000
END:DAYLIGHT
BEGIN:STANDARD
TZOFFSETFROM:-0700
TZOFFSETTO:-0800
TZNAME:PST
DTSTART:20161106T090000
END:STANDARD
END:VTIMEZONE
BEGIN:VTIMEZONE
TZID:Europe/Amsterdam
BEGIN:DAYLIGHT
TZOFFSETFROM:+0100
TZOFFSETTO:+0200
TZNAME:CEST
DTSTART:20140330T010000
END:DAYLIGHT
BEGIN:STANDARD
TZOFFSETFROM:+0200
TZOFFSETTO:+0100
TZNAME:CET
DTSTART:20141026T010000
END:STANDARD
BEGIN:DAYLIGHT
TZOFFSETFROM:+0100
TZOFFSETTO:+0200
TZNAME:CEST
DTSTART:20150329T010000
END:DAYLIGHT
BEGIN:STANDARD
TZOFFSETFROM:+0200
TZOFFSETTO:+0100
TZNAME:CET
DTSTART:20151025T010000
END:STANDARD
BEGIN:DAYLIGHT
TZOFFSETFROM:+0100
TZOFFSETTO:+0200
TZNAME:CEST
DTSTART:20160327T010000
END:DAYLIGHT
BEGIN:STANDARD
TZOFFSETFROM:+0200
TZOFFSETTO:+0100
TZNAME:CET
DTSTART:20161030T010000
END:STANDARD
END:VTIMEZONE
BEGIN:VTIMEZONE
TZID:Europe/Berlin
BEGIN:DAYLIGHT
TZOFFSETFROM:+0100
TZOFFSETTO:+0200
TZNAME:CEST
DTSTART:20140330T010000
END:DAYLIGHT
BEGIN:STANDARD
TZOFFSETFROM:+0200
TZOFFSETTO:+0100
TZNAME:CET
DTSTART:20141026T010000
END:STANDARD
BEGIN:DAYLIGHT
TZOFFSETFROM:+0100
TZOFFSETTO:+0200
TZNAME:CEST
DTSTART:20150329T010000
END:DAYLIGHT
BEGIN:STANDARD
TZOFFSETFROM:+0200
TZOFFSETTO:+0100
TZNAME:CET
DTSTART:20151025T010000
END:STANDARD
BEGIN:DAYLIGHT
TZOFFSETFROM:+0100
TZOFFSETTO:+0200
TZNAME:CEST
DTSTART:20160327T010000
END:DAYLIGHT
BEGIN:STANDARD
TZOFFSETFROM:+0200
TZOFFSETTO:+0100
TZNAME:CET
DTSTART:20161030T010000
END:STANDARD
END:VTIMEZONE
BEGIN:VTIMEZONE
TZID:America/Denver
BEGIN:DAYLIGHT
TZOFFSETFROM:-0700
TZOFFSETTO:-0600
TZNAME:MDT
DTSTART:20140309T090000
END:DAYLIGHT
BEGIN:STANDARD
TZOFFSETFROM:-0600
TZOFFSETTO:-0700
TZNAME:MST
DTSTART:20141102T080000
END:STANDARD
BEGIN:DAYLIGHT
TZOFFSETFROM:-0700
TZOFFSETTO:-0600
TZNAME:MDT
DTSTART:20150308T090000
END:DAYLIGHT
BEGIN:STANDARD
TZOFFSETFROM:-0600
TZOFFSETTO:-0700
TZNAME:MST
DTSTART:20151101T080000
END:STANDARD
BEGIN:DAYLIGHT
TZOFFSETFROM:-0700
TZOFFSETTO:-0600
TZNAME:MDT
DTSTART:20160313T090000
END:DAYLIGHT
BEGIN:STANDARD
TZOFFSETFROM:-0600
TZOFFSETTO:-0700
TZNAME:MST
DTSTART:20161106T080000
END:STANDARD
END:VTIMEZONE
BEGIN:VEVENT
DTSTART;VALUE=DATE:20161110
DTEND;VALUE=DATE:20161111
DTSTAMP:20260421T222619
CREATED:20160811T125621Z
LAST-MODIFIED:20200130T155926Z
UID:610-1478736000-1478822399@themanaquartet.com
SUMMARY:New Music Composers' Concert | UC Davis
DESCRIPTION:Details TBD
URL:https://themanaquartet.com/event/new-music-concert-uc-davis/
LOCATION:UC Davis\, Davis\, CA\, 95616\, United States
CATEGORIES:Concert,Residency
END:VEVENT
BEGIN:VEVENT
DTSTART;VALUE=DATE:20161109
DTEND;VALUE=DATE:20161112
DTSTAMP:20260421T222619
CREATED:20160811T125354Z
LAST-MODIFIED:20200130T155926Z
UID:608-1478649600-1478908799@themanaquartet.com
SUMMARY:Residency & Composition Workshop | UC Davis
DESCRIPTION:Details TBD
URL:https://themanaquartet.com/event/residency-composition-workshop-uc-davis/
LOCATION:UC Davis\, Davis\, CA\, 95616\, United States
CATEGORIES:Concert,Residency
END:VEVENT
BEGIN:VEVENT
DTSTART;TZID=UTC:20161008T200000
DTEND;TZID=UTC:20161008T220000
DTSTAMP:20260421T222619
CREATED:20160810T212953Z
LAST-MODIFIED:20200131T102531Z
UID:605-1475956800-1475964000@themanaquartet.com
SUMMARY:Trinity Chamber Concerts | Berkeley\, CA
DESCRIPTION:Mana Chamber Players trio concert\, with Michael Hernandez (soprano saxophone)\, Michael Mortarotti (alto saxophone)\, and Amy Zanrosso (piano).\nWorks by Brahms\, Khachaturian\, Lyszczarz\, Wirth\, and Piazzolla \n*Admission:\n$20 General\n$15 Senior/ Disabled/ Student\nNo one will be turned away for lack of funds\nTo reserve a ticket call\n(510) 549-3864
URL:https://themanaquartet.com/event/trinity-chamber-concerts-berkeley-ca/
LOCATION:Trinity Chapel\, 2320 Dana Street\, Berkeley\, CA\, 94704\, United States
CATEGORIES:Concert
ATTACH;FMTTYPE=image/jpeg:https://themanaquartet.com/wp-content/uploads/2016/08/manatrio.jpg
ORGANIZER;CN="Trinity Chamber Concerts":MAILTO:daniel@trinitychamberconcerts.com
END:VEVENT
BEGIN:VEVENT
DTSTART;VALUE=DATE:20160605
DTEND;VALUE=DATE:20160619
DTSTAMP:20260421T222619
CREATED:20151118T052137Z
LAST-MODIFIED:20151118T132216Z
UID:411-1465084800-1466294399@themanaquartet.com
SUMMARY:National Music Festival
DESCRIPTION:4th Annual Residency at the National Music Festival\, Mana Saxophone Institute\, Various Concerts TBA. \nWorkshop Participants\, please find more details here: https://themanaquartet.com/msi/ \n  
URL:https://themanaquartet.com/event/national-music-festival/
LOCATION:National Music Festival\, Chestertown\, MD\, United States
CATEGORIES:Concert,Outreach,Residency
END:VEVENT
BEGIN:VEVENT
DTSTART;VALUE=DATE:20160426
DTEND;VALUE=DATE:20160427
DTSTAMP:20260421T222619
CREATED:20160107T111824Z
LAST-MODIFIED:20160107T111824Z
UID:460-1461628800-1461715199@themanaquartet.com
SUMMARY:Masterclass | University of Southern Mississippi
DESCRIPTION:Masterclass with USM students – open to public
URL:https://themanaquartet.com/event/masterclass-university-of-southern-mississippi/
LOCATION:Marsh Auditorium\, 124 Golden Eagle Ave\, Hattiesburg\, MS\, 39401\, United States
CATEGORIES:Residency
END:VEVENT
BEGIN:VEVENT
DTSTART;VALUE=DATE:20160425
DTEND;VALUE=DATE:20160426
DTSTAMP:20260421T222619
CREATED:20160107T110649Z
LAST-MODIFIED:20160329T230058Z
UID:458-1461542400-1461628799@themanaquartet.com
SUMMARY:Guest Artist Recital | University of Southern Mississippi
DESCRIPTION:Join Mana Quartet at USM’s Marsh Auditorium for a presentation of chamber music and visual art.   \n\n\n Program: Portrait of My Dead Brother – Kevin Villalta \nNative New Yorker – William Susman  \nVide Supra – AJ Stillabower Saxophone Quartet – Stephen Dankner  \n\n\n Time TBD
URL:https://themanaquartet.com/event/guest-artist-recital-university-of-southern-mississippi/
LOCATION:Marsh Auditorium\, 124 Golden Eagle Ave\, Hattiesburg\, MS\, 39401\, United States
CATEGORIES:Concert
END:VEVENT
BEGIN:VEVENT
DTSTART;TZID=America/North_Dakota/Center:20160311T200000
DTEND;TZID=America/North_Dakota/Center:20160311T220000
DTSTAMP:20260421T222619
CREATED:20151118T051638Z
LAST-MODIFIED:20151118T132235Z
UID:406-1457726400-1457733600@themanaquartet.com
SUMMARY:Lubbock Symphony Orchestra | Lubbock\, TX
DESCRIPTION:U.S. Premiere of Sally Beamish’s Chamber Concerto for Saxophone Quartet and Strings with Lubbock Symphony Orchestra. \n \n \n  
URL:https://themanaquartet.com/event/lubbock-symphony-orchestra-lubbock-tx/
LOCATION:CA
CATEGORIES:Concert
END:VEVENT
BEGIN:VEVENT
DTSTART;VALUE=DATE:20160310
DTEND;VALUE=DATE:20160314
DTSTAMP:20260421T222619
CREATED:20151118T050349Z
LAST-MODIFIED:20151118T132246Z
UID:403-1457568000-1457913599@themanaquartet.com
SUMMARY:North American Saxophone Alliance | Lubbock\, TX
DESCRIPTION:2016 North American Saxophone Alliance Biennial Conference \nVarious Performances – TBA \n  
URL:https://themanaquartet.com/event/north-american-saxophone-alliance-lubbock-tx/
LOCATION:Unnamed Venue\, Lubbock\, TX\, United States
CATEGORIES:Concert
END:VEVENT
BEGIN:VEVENT
DTSTART;TZID=America/New_York:20160221T150000
DTEND;TZID=America/New_York:20160221T170000
DTSTAMP:20260421T222619
CREATED:20151118T045445Z
LAST-MODIFIED:20220917T022723Z
UID:401-1456066800-1456074000@themanaquartet.com
SUMMARY:Music at St. Patricks | Palm Beach Gardens\, FL
DESCRIPTION:Program: \nPrelude and Fugue XXII in B-flat Minor\, from Das wohltemperierte Klavier II – J.S. Bach \n**Evocations: Four after Matisse – Clare Shore \nOblivion – Astor Piazzolla\nMilonga del Angel\nAdios Nonino \n**Saxophone Quartet – Stephen Dankner \n**Dedicated to the Mana Quartet \n\n\n  
URL:https://themanaquartet.com/event/music-at-st-patricks-palm-beach-gardens-fl/
LOCATION:Unnamed Venue\, Palm Beach Gardens\, FL\, United States
CATEGORIES:Concert
END:VEVENT
BEGIN:VEVENT
DTSTART;VALUE=DATE:20160220
DTEND;VALUE=DATE:20160221
DTSTAMP:20260421T222619
CREATED:20151118T045330Z
LAST-MODIFIED:20151118T132312Z
UID:399-1455926400-1456012799@themanaquartet.com
SUMMARY:University of Miami | Miami\, FL
DESCRIPTION:Saxophone Masterclass – Details TBA \n  
URL:https://themanaquartet.com/event/university-of-miami-miami-fl/
LOCATION:University of Miami\, Miami\, FL\, United States
CATEGORIES:Outreach
END:VEVENT
BEGIN:VEVENT
DTSTART;VALUE=DATE:20160219
DTEND;VALUE=DATE:20160220
DTSTAMP:20260421T222619
CREATED:20151118T044632Z
LAST-MODIFIED:20160131T024245Z
UID:394-1455840000-1455926399@themanaquartet.com
SUMMARY:Friday Musicale | Jacksonville\, FL
DESCRIPTION:Program: \nPrelude and Fugue XXII in B-flat Minor\, from Das wohltemperierte Klavier II – J.S. Bach \nSaxophone Quartet\, Op. 109 – Alexander Glazunov \nOblivion – Astor Piazzolla\nMilonga del Angel\nAdios Nonino \n**Saxophone Quartet – Stephen Dankner \n**Dedicated to the Mana Quartet \n\n\n11am & 7:30pm\, doors open 30 minutes prior to showtime. \n \n  
URL:https://themanaquartet.com/event/friday-musicale-jacksonville-fl/
LOCATION:Friday Musicale\, 645 Oak Street\, Jacksonville\, FL\, 32204\, United States
CATEGORIES:Concert
END:VEVENT
BEGIN:VEVENT
DTSTART;VALUE=DATE:20160218
DTEND;VALUE=DATE:20160219
DTSTAMP:20260421T222619
CREATED:20151118T044511Z
LAST-MODIFIED:20151118T132338Z
UID:392-1455753600-1455839999@themanaquartet.com
SUMMARY:Benefit for the Guild of the Jacksonville Symphony | Jacksonville\, FL
DESCRIPTION:Benefit Concert for the Guild of the Jacksonville Symphony – details TBA \n\n\n  \n  
URL:https://themanaquartet.com/event/benefit-for-the-guild-of-the-jacksonville-symphony-jacksonville-fl/
LOCATION:Unnamed Venue\, Jacksonville\, FL\, United States
END:VEVENT
BEGIN:VEVENT
DTSTART;TZID=America/New_York:20160214T150000
DTEND;TZID=America/New_York:20160214T170000
DTSTAMP:20260421T222619
CREATED:20151118T044259Z
LAST-MODIFIED:20151118T132355Z
UID:390-1455462000-1455469200@themanaquartet.com
SUMMARY:Peace Memorial Concert Series | Clearwater\, FL
DESCRIPTION:“Romancing the (Saxo) Phone”  Right on time for Valentine’s Day\, the Mana Saxophone Quartet will bring us a delightful romantic program.  This talented group started performing together as graduate students at FSU\, won the prestigious Coleman Chamber Music Award and now travels the world concertizing.  Program selections will include a major work by Alexander Glazunov\, a new piece written for them by American composer Stephen Dankner\, plus some selections by the Argentinian tango master Astor Piazzolla. \n\n  \n  
URL:https://themanaquartet.com/event/peace-memorial-concert-series-clearwater-fl/
LOCATION:Peace Memorial Presbyterian Church\, 110 S. Fort Harrison Ave\, Clearwater\, FL\, 33756\, United States
CATEGORIES:Concert
END:VEVENT
BEGIN:VEVENT
DTSTART;TZID=America/New_York:20160112T190000
DTEND;TZID=America/New_York:20160112T203000
DTSTAMP:20260421T222619
CREATED:20151118T034406Z
LAST-MODIFIED:20160107T102527Z
UID:388-1452625200-1452630600@themanaquartet.com
SUMMARY:Goldenberg Cultural Series | Syracuse\, NY
DESCRIPTION:  \n\n\nProgram: \nPrelude and Fugue XXII in B-flat Minor\, from Das wohltemperierte Klavier II – J.S. Bach \nSaxophone Quartet\, Op. 109 – Alexander Glazunov \n**Saxophone Quartet – Stephen Dankner \n**Dedicated to the Mana Quartet \n\n\n \n  
URL:https://themanaquartet.com/event/goldenberg-cultural-series-syracuse-ny/
LOCATION:Goldenberg Cultural Series\, Syracuse\, NY\, United States
CATEGORIES:Concert
END:VEVENT
BEGIN:VEVENT
DTSTART;TZID=America/New_York:20160109T213000
DTEND;TZID=America/New_York:20160109T223000
DTSTAMP:20260421T222619
CREATED:20160102T233859Z
LAST-MODIFIED:20160107T215533Z
UID:454-1452375000-1452378600@themanaquartet.com
SUMMARY:Mana Quartet Showcase CMA | NYC
DESCRIPTION:The Mana Quartet presents: “Sight & Sound”; a presentation of chamber music\, fine art\, and film. Join them at D’Addario’s New York City showroom to experience a program of music composed and arranged especially for the ensemble. \n \n\n\nProgram: \nPortrait of My Dead Brother – Kevin Villalta \nVide Supra – AJ Stillabower  \n*World Premiere\n \nConstructions for Julie Mehretu – Everette Minchew \nNative New Yorker – Film by Steve Bilich\, Music by William Susman \nShot before\, during and after 9/11 on a 1924 silent film era camera\, Native New Yorker follows a Shaman Trail Scout through the isle of Manhattan. “In 13 minutes it brilliantly encapsulates aeons.” – The New Internationalist
URL:https://themanaquartet.com/event/mana-quartet-showcase-cma-nyc/
LOCATION:D’Addario Showroom\, 153 W. 36th St.\, New York\, New York\, 10018\, United States
CATEGORIES:Concert
END:VEVENT
BEGIN:VEVENT
DTSTART;TZID=America/Los_Angeles:20151114T200000
DTEND;TZID=America/Los_Angeles:20151114T211500
DTSTAMP:20260421T222619
CREATED:20151015T020437Z
LAST-MODIFIED:20220917T022434Z
UID:295-1447531200-1447535700@themanaquartet.com
SUMMARY:Trinity Chamber Concerts
DESCRIPTION:Program: \nPrelude and Fugue XXII in B-flat Minor\, from Das wohltemperierte Klavier II – J.S. Bach \nSaxophone Quartet\, Op. 109 – Alexander Glazunov \n**Saxophone Quartet – Stephen Dankner \n**Dedicated to the Mana Quartet \n\n\n \n  
URL:https://themanaquartet.com/event/trinity-chamber-concerts/
LOCATION:Trinity Chapel\, 2320 Dana Street\, Berkeley\, CA\, 94704\, United States
CATEGORIES:Concert
ORGANIZER;CN="Trinity Chamber Concerts":MAILTO:daniel@trinitychamberconcerts.com
END:VEVENT
BEGIN:VEVENT
DTSTART;TZID=America/Los_Angeles:20151113T193000
DTEND;TZID=America/Los_Angeles:20151113T210000
DTSTAMP:20260421T222619
CREATED:20151027T061338Z
LAST-MODIFIED:20151118T132558Z
UID:333-1447443000-1447448400@themanaquartet.com
SUMMARY:Guest Artist Recital at SJSU
DESCRIPTION:Program: \nPrelude and Fugue XXII in B-flat Minor\, from Das wohltemperierte Klavier II – J.S. Bach \nSaxophone Quartet\, Op. 109 – Alexander Glazunov \n**Saxophone Quartet – Stephen Dankner \n**Dedicated to the Mana Quartet \n\n\nThis concert is generously sponsored by San Jose State University \n \n  
URL:https://themanaquartet.com/event/guest-artist-recital-at-sjsu/
LOCATION:School of Music and Dance – San Jose State University\, 1 Washington Square\, San Jose\, CA\, 95192\, United States
CATEGORIES:Concert
END:VEVENT
BEGIN:VEVENT
DTSTART;VALUE=DATE:20151113
DTEND;VALUE=DATE:20151114
DTSTAMP:20260421T222619
CREATED:20151027T053534Z
LAST-MODIFIED:20151118T132626Z
UID:330-1447372800-1447459199@themanaquartet.com
SUMMARY:Bay Area Outreach\, sponsored by San Jose State University
DESCRIPTION:Mana will visit schools in the San Jose area\, offering unique musical insights to students through performance and activities.\n*Sponsored by San Jose State University\n \n  
URL:https://themanaquartet.com/event/bay-area-outreach-sponsored-by-san-jose-state-university/
LOCATION:CA
CATEGORIES:Outreach
END:VEVENT
BEGIN:VEVENT
DTSTART;TZID=UTC:20151112T190000
DTEND;TZID=UTC:20151112T210000
DTSTAMP:20260421T222619
CREATED:20151103T095406Z
LAST-MODIFIED:20151118T132642Z
UID:336-1447354800-1447362000@themanaquartet.com
SUMMARY:STOREFRONTLAB | San Francisco
DESCRIPTION:StoreFrontLab\nThe Mana Quartet presents: “Sight & Sound”; a presentation of chamber music\, fine art\, and film. Join them at StoreFrontLab to experience a program of music composed and arranged especially for the ensemble. \n\n\nProgram: \nPortrait of My Dead Brother – Kevin Villalta\nConstructions for Julie Mehretu – Everette Minchew\nNative New Yorker- Film by Steve Bilich\, Music by William Susman \n\nShot before\, during and after 9/11 on a 1924 silent film era camera\, Native New Yorker follows a Shaman Trail Scout through the isle of Manhattan. “In 13 minutes it brilliantly encapsulates aeons.” – The New Internationalist \n\n**Saxophone Quartet – Stephen Dankner \n**Dedicated to the Mana Quartet \n\n\n*7pm Concert\, reception to follow \n  
URL:https://themanaquartet.com/event/storefrontlab-san-francisco/
LOCATION:StoreFrontLab\, 337 Shotwell St\, San Francisco\, CA\, 94110\, United States
CATEGORIES:Concert
END:VEVENT
BEGIN:VEVENT
DTSTART;TZID=America/Los_Angeles:20151111T190000
DTEND;TZID=America/Los_Angeles:20151111T210000
DTSTAMP:20260421T222619
CREATED:20151130T055716Z
LAST-MODIFIED:20151202T030931Z
UID:449-1447268400-1447275600@themanaquartet.com
SUMMARY:House Concert | Oakland\, CA
DESCRIPTION:Program: \nPortrait of My Dead Brother – Kevin Villalta\nConstructions for Julie Mehretu – Everette Minchew\nNative New Yorker- Film by Steve Bilich\, Music by William Susman \n\nShot before\, during and after 9/11 on a 1924 silent film era camera\, Native New Yorker follows a Shaman Trail Scout through the isle of Manhattan. “In 13 minutes it brilliantly encapsulates aeons.” – The New Internationalist \n\n**Saxophone Quartet – Mika Pelo \n**Dedicated to the Mana Quartet \n\n\n*7pm Concert\, reception to follow
URL:https://themanaquartet.com/event/house-concert-oakland-ca/
LOCATION:Broadway Terrace\, 5960 Broadway Terrace\, Oakland\, CA\, 94618\, United States
CATEGORIES:Concert
END:VEVENT
BEGIN:VEVENT
DTSTART;TZID=Europe/Amsterdam:20150716T200000
DTEND;TZID=Europe/Amsterdam:20150716T220000
DTSTAMP:20260421T222619
CREATED:20151118T130732Z
LAST-MODIFIED:20151118T132720Z
UID:420-1437076800-1437084000@themanaquartet.com
SUMMARY:Bartholomeus Gasthuis | Utrecht\, Netherlands
DESCRIPTION:Utrecht\, NL | Joint concert with Mana Quartet and Duo Beumer/van Ham \nPelo\, Weill\, Dankner\, Bach \n  
URL:https://themanaquartet.com/event/bartholomeus-gasthuis-utrecht-netherlands/
LOCATION:Bartholomeus Gasthuis\, Lange Smeestraat 40\, Utrecht\, Netherlands
CATEGORIES:Concert
END:VEVENT
BEGIN:VEVENT
DTSTART;TZID=Europe/Berlin:20150714T201500
DTEND;TZID=Europe/Berlin:20150714T220000
DTSTAMP:20260421T222619
CREATED:20151118T131058Z
LAST-MODIFIED:20151118T132738Z
UID:422-1436904900-1436911200@themanaquartet.com
SUMMARY:Badenweiler\, Germany
DESCRIPTION:Mana Quartet recital with repertoire to showcase the evolution of the saxophone quartet genre. \nhttp://www.badenweiler.de/Media/Veranstaltungen/Konzert-mit-dem-The-Mana-Saxophone-Quartet-USA \n  
URL:https://themanaquartet.com/event/badenweiler-germany/
LOCATION:Evangelische Pauluskirche\, Kaiserstr. 8\, Badenweiler\, 79410\, Germany
CATEGORIES:Concert
END:VEVENT
BEGIN:VEVENT
DTSTART;VALUE=DATE:20150710
DTEND;VALUE=DATE:20150711
DTSTAMP:20260421T222619
CREATED:20151118T131342Z
LAST-MODIFIED:20151203T021742Z
UID:424-1436486400-1436572799@themanaquartet.com
SUMMARY:Strasbourg\, France
DESCRIPTION:Strasbourg\, France | SaxOpen Recital\nPremiere of Mika Pelo’s saxophone quartet\, made possible by the 2015 Chamber Music America Classical Commissioning Program \n  
URL:https://themanaquartet.com/event/strasbourg-france/
LOCATION:Unnamed Venue\, Strasbourg\, France
CATEGORIES:Concert
END:VEVENT
BEGIN:VEVENT
DTSTART;VALUE=DATE:20150531
DTEND;VALUE=DATE:20150614
DTSTAMP:20260421T222619
CREATED:20151118T131511Z
LAST-MODIFIED:20151118T132910Z
UID:426-1433030400-1434239999@themanaquartet.com
SUMMARY:National Music Festival | Chestertown\, MD
DESCRIPTION:Saxophone workshop and various concerts in Chestertown\, MD. \n  
URL:https://themanaquartet.com/event/national2015/
LOCATION:Unnamed Venue\, Chestertown\, MD\, United States
CATEGORIES:Concert,Outreach,Residency
END:VEVENT
BEGIN:VEVENT
DTSTART;TZID=America/New_York:20150419T200000
DTEND;TZID=America/New_York:20150419T210000
DTSTAMP:20260421T222619
CREATED:20151118T131731Z
LAST-MODIFIED:20151118T132831Z
UID:429-1429473600-1429477200@themanaquartet.com
SUMMARY:Fairmont Chamber Music Society | Fairmont\, WV
DESCRIPTION:7:30PM Concert | Music by Bach\, Dankner\, Lukas\, and Singelee. \n  
URL:https://themanaquartet.com/event/fairmont-chamber-music-society-fairmont-wv/
LOCATION:Fairmont Chamber Music Society\, 407 Jackson Street\, Fairmont\, WV\, 26554\, United States
CATEGORIES:Concert
END:VEVENT
BEGIN:VEVENT
DTSTART;VALUE=DATE:20150311
DTEND;VALUE=DATE:20150312
DTSTAMP:20260421T222619
CREATED:20151118T132136Z
LAST-MODIFIED:20151118T132136Z
UID:434-1426032000-1426118399@themanaquartet.com
SUMMARY:Oklahoma State University Contemporary Music Festival
DESCRIPTION:Stillwater\, OK – Sight & Sound project concert. Featuring a program of Mana-dedicated works. The presentation includes multi-media\, film\, and projected images\, enhancing the audiences experience and participation. The program includes quartets by Clare Shore\, Kevin Villalta\, and Everette Minchew. \n  
URL:https://themanaquartet.com/event/oklahoma-state-university-contemporary-music-festival/
LOCATION:Unnamed Venue\, Stillwater\, OK\, United States
CATEGORIES:Concert,Residency
END:VEVENT
BEGIN:VEVENT
DTSTART;VALUE=DATE:20150308
DTEND;VALUE=DATE:20150310
DTSTAMP:20260421T222619
CREATED:20151118T133054Z
LAST-MODIFIED:20151118T133311Z
UID:437-1425772800-1425945599@themanaquartet.com
SUMMARY:Henderson State University | Arkadelphia\, AR
DESCRIPTION:Mana will perform quartets by Stephen Dankner\, Jean-Baptiste Singelee\, and J.S. Bach\, showcasing the diversity of the saxophone quartet. \n  
URL:https://themanaquartet.com/event/henderson-state-university-arkadelphia-ar/
LOCATION:Unnamed Venue\, Arkadelphia\, AR\, United States
CATEGORIES:Concert,Residency
END:VEVENT
BEGIN:VEVENT
DTSTART;VALUE=DATE:20150305
DTEND;VALUE=DATE:20150308
DTSTAMP:20260421T222619
CREATED:20151118T133205Z
LAST-MODIFIED:20151118T133205Z
UID:440-1425513600-1425772799@themanaquartet.com
SUMMARY:Residency at University of Arkansas
DESCRIPTION:The Arkansas Saxophone Symposium\n3/5/2015 – 3/7/2015 \nThe University of Arkansas\, Department of Music will be the host for a three day symposium for collegiate and high school saxophonists. The Mana Saxophone Quartet will be in residence for the event. All activities are free and open to the public. Events for the symposium will include: \n~Thursday\, March 5th\, 11:00 am in the Billingsley Music Building – “Composing for the Saxophone Quartet”. The Mana Quartet will visit with composers about writing for the saxophone quartet. \n~Thursday\, March 5th\, 7:30 pm in the Stella Boyle Smith Concert Hall – Mana Saxophone Quartet Recital. \n~Friday\, March 6th\, 9 am until 5 pm – Performances by Arkansas Saxophonists and Quartets. The Mana Quartet will give masterclasses for collegiate quartets during the day’s activities. \n~Saturday\, March 7th\, 9 am until 4 pm – Clinics and Performances for High School Students. Collegiate and High School students will rehearse and present an afternoon concert along with a performance by the Mana Saxophone Quartet to close the symposium. \nhttps://calendars.uark.edu/mobile/mobiledetail.aspx?iid=57665\n  
URL:https://themanaquartet.com/event/residency-at-university-of-arkansas/
LOCATION:CA
CATEGORIES:Concert,Residency
END:VEVENT
BEGIN:VEVENT
DTSTART;TZID=America/Denver:20150302T080000
DTEND;TZID=America/Denver:20150302T170000
DTSTAMP:20260421T222619
CREATED:20151118T133541Z
LAST-MODIFIED:20151118T133541Z
UID:441-1425283200-1425315600@themanaquartet.com
SUMMARY:Western State Colorado University | Gunnison\, CO
DESCRIPTION:Gunnison\, CO – Mana will perform quartets by Stephen Dankner\, Jean-Baptiste Singelee\, and J.S. Bach\, showcasing the diversity of the saxophone quartet. \nNoon Masterclass | 7:30PM Concert – Westen State Colorado University\, Quigley Hall\n  
URL:https://themanaquartet.com/event/western-state-colorado-university-gunnison-co/
LOCATION:Unnamed Venue\, Gunnison\, CO\, United States
CATEGORIES:Concert,Residency
END:VEVENT
BEGIN:VEVENT
DTSTART;VALUE=DATE:20150301
DTEND;VALUE=DATE:20150302
DTSTAMP:20260421T222619
CREATED:20151118T133703Z
LAST-MODIFIED:20151118T133703Z
UID:443-1425168000-1425254399@themanaquartet.com
SUMMARY:Rocky Mountain Music Alliance | Colorado Springs\, CO
DESCRIPTION:Mana will perform quartets by Stephen Dankner\, Jean-Baptiste Singelee\, and J.S. Bach\, showcasing the diversity of the saxophone quartet.\n  
URL:https://themanaquartet.com/event/rocky-mountain-music-alliance-colorado-springs-co/
LOCATION:Unnamed Venue\, Colorado Springs\, CO\, United States
CATEGORIES:Concert
END:VEVENT
END:VCALENDAR